BEGIN:VCALENDAR
VERSION:2.0
PRODID:-//City of Northmoor, Missouri - ECPv4.6.2.1//NONSGML v1.0//EN
CALSCALE:GREGORIAN
METHOD:PUBLISH
X-WR-CALNAME:City of Northmoor, Missouri
X-ORIGINAL-URL:http://cityofnorthmoormo.com
X-WR-CALDESC:Events for City of Northmoor, Missouri
BEGIN:VEVENT
DTSTART;TZID=America/Chicago:20241105T183000
DTEND;TZID=America/Chicago:20241105T203000
DTSTAMP:20260425T142616
CREATED:20240625T222758Z
LAST-MODIFIED:20240625T222758Z
UID:1837-1730831400-1730838600@cityofnorthmoormo.com
SUMMARY:Monthly Board of Aldermen Meeting
DESCRIPTION:First Tuesday of every month at Northmoor City Hall.  Open to the public. \n
URL:http://cityofnorthmoormo.com/event/monthly-board-of-aldermen-meeting-5/
END:VEVENT
END:VCALENDAR